Package: randPack Version: 1.50.0 Command: /home/biocbuild/R/R-beta-2024-04-15_r86425/bin/R CMD build --keep-empty-dirs --no-resave-data randPack StartedAt: 2024-05-09 02:48:20 -0000 (Thu, 09 May 2024) EndedAt: 2024-05-09 02:48:28 -0000 (Thu, 09 May 2024) EllapsedTime: 8.0 seconds RetCode: 0 Status: OK PackageFile: randPack_1.50.0.tar.gz PackageFileSize: 244.5 KiB