Package: randPack Version: 1.50.0 Command: rm -rf randPack.buildbin-libdir && mkdir randPack.buildbin-libdir && /Users/biocbuild/BBS/utils/build-universal.sh randPack_1.50.0.tar.gz /Library/Frameworks/R.framework/Resources/bin/R randPack.buildbin-libdir StartedAt: 2024-06-11 12:41:36 -0400 (Tue, 11 Jun 2024) EndedAt: 2024-06-11 12:41:45 -0400 (Tue, 11 Jun 2024) EllapsedTime: 9.8 seconds RetCode: 0 Status: OK PackageFile: randPack_1.50.0.tgz PackageFileSize: 462.9 KiB