Package: ramwas Version: 1.28.0 Command: /home/biocbuild/bbs-3.19-bioc/R/bin/R CMD build --keep-empty-dirs --no-resave-data ramwas StartedAt: 2024-10-16 20:18:25 -0400 (Wed, 16 Oct 2024) EndedAt: 2024-10-16 20:22:40 -0400 (Wed, 16 Oct 2024) EllapsedTime: 254.5 seconds RetCode: 0 Status: OK PackageFile: ramwas_1.28.0.tar.gz PackageFileSize: 3.06 MiB