Package: ramwas Version: 1.28.0 Command: /Library/Frameworks/R.framework/Resources/bin/R CMD INSTALL ramwas StartedAt: 2024-10-16 17:46:46 -0400 (Wed, 16 Oct 2024) EndedAt: 2024-10-16 17:47:28 -0400 (Wed, 16 Oct 2024) EllapsedTime: 41.8 seconds RetCode: 0 Status: OK