Package: rain Version: 1.38.0 Command: chmod a+r rain -R && F:\biocbuild\bbs-3.19-bioc\R\bin\R.exe CMD build --keep-empty-dirs --no-resave-data rain StartedAt: 2024-06-26 21:13:34 -0400 (Wed, 26 Jun 2024) EndedAt: 2024-06-26 21:14:08 -0400 (Wed, 26 Jun 2024) EllapsedTime: 33.9 seconds RetCode: 0 Status: OK PackageFile: rain_1.38.0.tar.gz PackageFileSize: 605.1 KiB