Package: rain Version: 1.38.0 Command: /Library/Frameworks/R.framework/Resources/bin/R CMD build --keep-empty-dirs --no-resave-data rain StartedAt: 2024-10-16 22:22:05 -0400 (Wed, 16 Oct 2024) EndedAt: 2024-10-16 22:23:26 -0400 (Wed, 16 Oct 2024) EllapsedTime: 81.1 seconds RetCode: 0 Status: OK PackageFile: rain_1.38.0.tar.gz PackageFileSize: 604.4 KiB