Package: rain Version: 1.38.0 Command: /home/biocbuild/R/R-beta-2024-04-15_r86425/bin/R CMD INSTALL rain StartedAt: 2024-05-08 20:52:36 -0000 (Wed, 08 May 2024) EndedAt: 2024-05-08 20:52:45 -0000 (Wed, 08 May 2024) EllapsedTime: 8.6 seconds RetCode: 0 Status: OK