Package: rain Version: 1.38.0 Command: /Library/Frameworks/R.framework/Resources/bin/R CMD check --install=check:rain.install-out.txt --library=/Library/Frameworks/R.framework/Resources/library --no-vignettes --timings rain_1.38.0.tar.gz StartedAt: 2024-10-18 08:41:49 -0400 (Fri, 18 Oct 2024) EndedAt: 2024-10-18 08:42:54 -0400 (Fri, 18 Oct 2024) EllapsedTime: 65.4 seconds RetCode: 0 Status: OK CheckDir: rain.Rcheck Warnings: 0