Package: rain Version: 1.38.0 Command: /Library/Frameworks/R.framework/Resources/bin/R CMD build --keep-empty-dirs --no-resave-data rain StartedAt: 2024-10-17 07:06:45 -0400 (Thu, 17 Oct 2024) EndedAt: 2024-10-17 07:07:19 -0400 (Thu, 17 Oct 2024) EllapsedTime: 33.9 seconds RetCode: 0 Status: OK PackageFile: rain_1.38.0.tar.gz PackageFileSize: 604.4 KiB