Package: raer Version: 1.2.0 Command: chmod a+r raer -R && E:\biocbuild\bbs-3.19-bioc\R\bin\R.exe CMD build --keep-empty-dirs --no-resave-data raer StartedAt: 2024-10-16 21:20:00 -0400 (Wed, 16 Oct 2024) EndedAt: 2024-10-16 21:30:05 -0400 (Wed, 16 Oct 2024) EllapsedTime: 605.7 seconds RetCode: 1 Status: ERROR PackageFile: None PackageFileSize: NA