Package: rWikiPathways Version: 1.24.0 Command: /Library/Frameworks/R.framework/Resources/bin/R CMD check --install=check:rWikiPathways.install-out.txt --library=/Library/Frameworks/R.framework/Resources/library --no-vignettes --timings rWikiPathways_1.24.0.tar.gz StartedAt: 2024-10-17 12:20:55 -0400 (Thu, 17 Oct 2024) EndedAt: 2024-10-17 12:25:36 -0400 (Thu, 17 Oct 2024) EllapsedTime: 280.4 seconds RetCode: 0 Status: OK CheckDir: rWikiPathways.Rcheck Warnings: 0