Package: rWikiPathways Version: 1.24.0 Command: /home/biocbuild/R/R-beta-2024-04-15_r86425/bin/R CMD build --keep-empty-dirs --no-resave-data rWikiPathways StartedAt: 2024-05-09 03:14:51 -0000 (Thu, 09 May 2024) EndedAt: 2024-05-09 03:15:08 -0000 (Thu, 09 May 2024) EllapsedTime: 17.0 seconds RetCode: 0 Status: OK PackageFile: rWikiPathways_1.24.0.tar.gz PackageFileSize: 10.65 MiB