Package: rWikiPathways Version: 1.24.0 Maintainer: Egon Willighagen MaintainerEmail: egon.willighagen at gmail.com git_url: https://git.bioconductor.org/packages/rWikiPathways git_branch: RELEASE_3_19 git_last_commit: 5c6d74c git_last_commit_date: 2024-04-30 11:05:31 -0400 (Tue, 30 Apr 2024)