Package: rTRMui Version: 1.42.0 Command: E:\biocbuild\bbs-3.19-bioc\R\bin\R.exe CMD check --no-multiarch --install=check:rTRMui.install-out.txt --library=E:\biocbuild\bbs-3.19-bioc\R\library --no-vignettes --timings rTRMui_1.42.0.tar.gz StartedAt: 2024-10-17 05:18:23 -0400 (Thu, 17 Oct 2024) EndedAt: 2024-10-17 05:23:49 -0400 (Thu, 17 Oct 2024) EllapsedTime: 326.5 seconds RetCode: 0 Status: OK CheckDir: rTRMui.Rcheck Warnings: 0