Package: rTRMui Version: 1.42.0 Command: chmod a+r rTRMui -R && E:\biocbuild\bbs-3.19-bioc\R\bin\R.exe CMD build --keep-empty-dirs --no-resave-data rTRMui StartedAt: 2024-10-16 21:39:47 -0400 (Wed, 16 Oct 2024) EndedAt: 2024-10-16 21:41:02 -0400 (Wed, 16 Oct 2024) EllapsedTime: 75.1 seconds RetCode: 0 Status: OK PackageFile: rTRMui_1.42.0.tar.gz PackageFileSize: 1.019 MiB