Package: rTRMui Version: 1.42.0 Command: chmod a+r rTRMui -R && F:\biocbuild\bbs-3.19-bioc\R\bin\R.exe CMD build --keep-empty-dirs --no-resave-data rTRMui StartedAt: 2024-06-26 21:34:43 -0400 (Wed, 26 Jun 2024) EndedAt: 2024-06-26 21:36:17 -0400 (Wed, 26 Jun 2024) EllapsedTime: 93.9 seconds RetCode: 0 Status: OK PackageFile: rTRMui_1.42.0.tar.gz PackageFileSize: 1.019 MiB