Package: rTRMui Version: 1.42.0 Command: /Library/Frameworks/R.framework/Resources/bin/R CMD INSTALL rTRMui StartedAt: 2024-10-16 15:59:22 -0400 (Wed, 16 Oct 2024) EndedAt: 2024-10-16 16:01:12 -0400 (Wed, 16 Oct 2024) EllapsedTime: 110.0 seconds RetCode: 0 Status: OK