Package: rTRMui Version: 1.42.0 Command: /Library/Frameworks/R.framework/Resources/bin/R CMD build --keep-empty-dirs --no-resave-data rTRMui StartedAt: 2024-10-16 22:48:49 -0400 (Wed, 16 Oct 2024) EndedAt: 2024-10-16 22:51:36 -0400 (Wed, 16 Oct 2024) EllapsedTime: 166.8 seconds RetCode: 0 Status: OK PackageFile: rTRMui_1.42.0.tar.gz PackageFileSize: 1.11 MiB