Package: rTRMui Version: 1.42.0 Command: /home/biocbuild/R/R-beta-2024-04-15_r86425/bin/R CMD INSTALL rTRMui StartedAt: 2024-05-08 20:35:55 -0000 (Wed, 08 May 2024) EndedAt: 2024-05-08 20:37:01 -0000 (Wed, 08 May 2024) EllapsedTime: 66.0 seconds RetCode: 0 Status: OK