Package: rTRMui Version: 1.42.0 Command: /Library/Frameworks/R.framework/Resources/bin/R CMD check --install=check:rTRMui.install-out.txt --library=/Library/Frameworks/R.framework/Resources/library --no-vignettes --timings rTRMui_1.42.0.tar.gz StartedAt: 2024-06-11 03:57:22 -0400 (Tue, 11 Jun 2024) EndedAt: 2024-06-11 04:04:51 -0400 (Tue, 11 Jun 2024) EllapsedTime: 449.5 seconds RetCode: 0 Status: OK CheckDir: rTRMui.Rcheck Warnings: 0