Package: rTRMui Version: 1.42.0 Command: rm -rf rTRMui.buildbin-libdir && mkdir rTRMui.buildbin-libdir && /Users/biocbuild/BBS/utils/build-universal.sh rTRMui_1.42.0.tar.gz /Library/Frameworks/R.framework/Resources/bin/R rTRMui.buildbin-libdir StartedAt: 2024-06-11 12:59:35 -0400 (Tue, 11 Jun 2024) EndedAt: 2024-06-11 13:01:15 -0400 (Tue, 11 Jun 2024) EllapsedTime: 99.4 seconds RetCode: 0 Status: OK PackageFile: rTRMui_1.42.0.tgz PackageFileSize: 833.5 KiB