Package: rTRMui Version: 1.42.0 Command: /Library/Frameworks/R.framework/Resources/bin/R CMD INSTALL rTRMui StartedAt: 2024-10-16 17:16:32 -0400 (Wed, 16 Oct 2024) EndedAt: 2024-10-16 17:17:28 -0400 (Wed, 16 Oct 2024) EllapsedTime: 55.7 seconds RetCode: 0 Status: OK