Package: rTRM Version: 1.42.0 Command: chmod a+r rTRM -R && E:\biocbuild\bbs-3.19-bioc\R\bin\R.exe CMD build --keep-empty-dirs --no-resave-data rTRM StartedAt: 2024-10-16 21:39:46 -0400 (Wed, 16 Oct 2024) EndedAt: 2024-10-16 21:40:46 -0400 (Wed, 16 Oct 2024) EllapsedTime: 60.5 seconds RetCode: 0 Status: OK PackageFile: rTRM_1.42.0.tar.gz PackageFileSize: 3.17 MiB