Package: rTRM Version: 1.42.0 Command: /Library/Frameworks/R.framework/Resources/bin/R CMD build --keep-empty-dirs --no-resave-data rTRM StartedAt: 2024-10-16 22:48:42 -0400 (Wed, 16 Oct 2024) EndedAt: 2024-10-16 22:50:43 -0400 (Wed, 16 Oct 2024) EllapsedTime: 120.4 seconds RetCode: 0 Status: OK PackageFile: rTRM_1.42.0.tar.gz PackageFileSize: 3.558 MiB