Package: rTRM Version: 1.42.0 Command: /Library/Frameworks/R.framework/Resources/bin/R CMD check --install=check:rTRM.install-out.txt --library=/Library/Frameworks/R.framework/Resources/library --no-vignettes --timings rTRM_1.42.0.tar.gz StartedAt: 2024-06-09 22:45:43 -0400 (Sun, 09 Jun 2024) EndedAt: 2024-06-09 22:47:53 -0400 (Sun, 09 Jun 2024) EllapsedTime: 130.2 seconds RetCode: 0 Status: OK CheckDir: rTRM.Rcheck Warnings: 0