Package: rTRM Version: 1.42.0 Command: /home/biocbuild/R/R-beta-2024-04-15_r86425/bin/R CMD check --install=check:rTRM.install-out.txt --library=/home/biocbuild/R/R-beta-2024-04-15_r86425/site-library --no-vignettes --timings rTRM_1.42.0.tar.gz StartedAt: 2024-05-09 11:28:34 -0000 (Thu, 09 May 2024) EndedAt: 2024-05-09 11:30:51 -0000 (Thu, 09 May 2024) EllapsedTime: 137.6 seconds RetCode: 0 Status: OK CheckDir: rTRM.Rcheck Warnings: 0