Package: rTRM Version: 1.42.0 Command: /Library/Frameworks/R.framework/Resources/bin/R CMD INSTALL rTRM StartedAt: 2024-10-16 16:14:47 -0400 (Wed, 16 Oct 2024) EndedAt: 2024-10-16 16:15:08 -0400 (Wed, 16 Oct 2024) EllapsedTime: 20.4 seconds RetCode: 0 Status: OK