Package: rTRM Version: 1.42.0 Command: /Library/Frameworks/R.framework/Resources/bin/R CMD check --install=check:rTRM.install-out.txt --library=/Library/Frameworks/R.framework/Resources/library --no-vignettes --timings rTRM_1.42.0.tar.gz StartedAt: 2024-10-18 10:34:08 -0400 (Fri, 18 Oct 2024) EndedAt: 2024-10-18 10:36:19 -0400 (Fri, 18 Oct 2024) EllapsedTime: 131.3 seconds RetCode: 0 Status: OK CheckDir: rTRM.Rcheck Warnings: 0