Package: rScudo Version: 1.20.0 Command: E:\biocbuild\bbs-3.19-bioc\R\bin\R.exe CMD INSTALL rScudo StartedAt: 2024-10-16 16:19:39 -0400 (Wed, 16 Oct 2024) EndedAt: 2024-10-16 16:19:51 -0400 (Wed, 16 Oct 2024) EllapsedTime: 12.3 seconds RetCode: 0 Status: OK