Package: rScudo Version: 1.20.0 Command: rm -rf rScudo.buildbin-libdir && mkdir rScudo.buildbin-libdir && /Users/biocbuild/BBS/utils/build-universal.sh rScudo_1.20.0.tar.gz /Library/Frameworks/R.framework/Resources/bin/R rScudo.buildbin-libdir StartedAt: 2024-10-17 17:03:49 -0400 (Thu, 17 Oct 2024) EndedAt: 2024-10-17 17:03:58 -0400 (Thu, 17 Oct 2024) EllapsedTime: 9.3 seconds RetCode: 0 Status: OK PackageFile: rScudo_1.20.0.tgz PackageFileSize: 1.011 MiB