Package: rScudo Version: 1.20.0 Command: /home/biocbuild/R/R-beta-2024-04-15_r86425/bin/R CMD check --install=check:rScudo.install-out.txt --library=/home/biocbuild/R/R-beta-2024-04-15_r86425/site-library --no-vignettes --timings rScudo_1.20.0.tar.gz StartedAt: 2024-05-09 11:26:28 -0000 (Thu, 09 May 2024) EndedAt: 2024-05-09 11:27:13 -0000 (Thu, 09 May 2024) EllapsedTime: 44.1 seconds RetCode: 0 Status: OK CheckDir: rScudo.Rcheck Warnings: 0