Package: rScudo Version: 1.20.0 Command: /Library/Frameworks/R.framework/Resources/bin/R CMD check --install=check:rScudo.install-out.txt --library=/Library/Frameworks/R.framework/Resources/library --no-vignettes --timings rScudo_1.20.0.tar.gz StartedAt: 2024-10-18 10:17:51 -0400 (Fri, 18 Oct 2024) EndedAt: 2024-10-18 10:18:40 -0400 (Fri, 18 Oct 2024) EllapsedTime: 49.3 seconds RetCode: 0 Status: OK CheckDir: rScudo.Rcheck Warnings: 0