Package: rScudo Version: 1.20.0 Command: /Library/Frameworks/R.framework/Resources/bin/R CMD build --keep-empty-dirs --no-resave-data rScudo StartedAt: 2024-10-17 08:02:56 -0400 (Thu, 17 Oct 2024) EndedAt: 2024-10-17 08:04:56 -0400 (Thu, 17 Oct 2024) EllapsedTime: 119.1 seconds RetCode: 0 Status: OK PackageFile: rScudo_1.20.0.tar.gz PackageFileSize: 845 KiB