Package: rSWeeP Version: 1.16.2 Command: E:\biocbuild\bbs-3.19-bioc\R\bin\R.exe CMD check --no-multiarch --install=check:rSWeeP.install-out.txt --library=E:\biocbuild\bbs-3.19-bioc\R\library --no-vignettes --timings rSWeeP_1.16.2.tar.gz StartedAt: 2024-10-17 05:16:54 -0400 (Thu, 17 Oct 2024) EndedAt: 2024-10-17 05:17:26 -0400 (Thu, 17 Oct 2024) EllapsedTime: 31.6 seconds RetCode: 0 Status: OK CheckDir: rSWeeP.Rcheck Warnings: 0