Package: rSWeeP Version: 1.16.2 Command: /home/biocbuild/bbs-3.19-bioc/R/bin/R CMD check --install=check:rSWeeP.install-out.txt --library=/home/biocbuild/bbs-3.19-bioc/R/site-library --timings rSWeeP_1.16.2.tar.gz StartedAt: 2024-10-17 04:35:52 -0400 (Thu, 17 Oct 2024) EndedAt: 2024-10-17 04:36:11 -0400 (Thu, 17 Oct 2024) EllapsedTime: 19.1 seconds RetCode: 0 Status: OK CheckDir: rSWeeP.Rcheck Warnings: 0