Package: rSWeeP Version: 1.16.2 Command: /Library/Frameworks/R.framework/Resources/bin/R CMD build --keep-empty-dirs --no-resave-data rSWeeP StartedAt: 2024-10-16 22:47:08 -0400 (Wed, 16 Oct 2024) EndedAt: 2024-10-16 22:47:10 -0400 (Wed, 16 Oct 2024) EllapsedTime: 2.3 seconds RetCode: 0 Status: OK PackageFile: rSWeeP_1.16.2.tar.gz PackageFileSize: 1.582 MiB