Package: rSWeeP Version: 1.16.2 Command: rm -rf rSWeeP.buildbin-libdir && mkdir rSWeeP.buildbin-libdir && /Users/biocbuild/BBS/utils/build-universal.sh rSWeeP_1.16.2.tar.gz /Library/Frameworks/R.framework/Resources/bin/R rSWeeP.buildbin-libdir StartedAt: 2024-10-17 17:04:02 -0400 (Thu, 17 Oct 2024) EndedAt: 2024-10-17 17:04:08 -0400 (Thu, 17 Oct 2024) EllapsedTime: 5.5 seconds RetCode: 0 Status: OK PackageFile: rSWeeP_1.16.2.tgz PackageFileSize: 1.598 MiB