Package: rSWeeP Version: 1.16.2 Maintainer: Danrley R. Fernandes MaintainerEmail: DanrleyRF at gmail.com git_url: https://git.bioconductor.org/packages/rSWeeP git_branch: RELEASE_3_19 git_last_commit: f333486 git_last_commit_date: 2024-08-21 17:40:27 -0400 (Wed, 21 Aug 2024)