Package: rGenomeTracks Version: 1.10.0 Command: E:\biocbuild\bbs-3.19-bioc\R\bin\R.exe CMD INSTALL rGenomeTracks StartedAt: 2024-10-16 16:36:02 -0400 (Wed, 16 Oct 2024) EndedAt: 2024-10-16 16:36:44 -0400 (Wed, 16 Oct 2024) EllapsedTime: 41.8 seconds RetCode: 0 Status: OK