Package: rGenomeTracks Version: 1.10.0 Command: chmod a+r rGenomeTracks -R && E:\biocbuild\bbs-3.19-bioc\R\bin\R.exe CMD build --keep-empty-dirs --no-resave-data rGenomeTracks StartedAt: 2024-10-16 21:29:42 -0400 (Wed, 16 Oct 2024) EndedAt: 2024-10-16 21:30:01 -0400 (Wed, 16 Oct 2024) EllapsedTime: 19.1 seconds RetCode: 0 Status: OK PackageFile: rGenomeTracks_1.10.0.tar.gz PackageFileSize: 3.341 MiB