Package: rGenomeTracks Version: 1.10.0 Command: rm -rf rGenomeTracks.buildbin-libdir && mkdir rGenomeTracks.buildbin-libdir && E:\biocbuild\bbs-3.19-bioc\R\bin\R.exe CMD INSTALL --build --library=rGenomeTracks.buildbin-libdir rGenomeTracks_1.10.0.tar.gz StartedAt: 2024-10-17 08:28:51 -0400 (Thu, 17 Oct 2024) EndedAt: 2024-10-17 08:29:33 -0400 (Thu, 17 Oct 2024) EllapsedTime: 41.8 seconds RetCode: 0 Status: OK PackageFile: rGenomeTracks_1.10.0.zip PackageFileSize: 3.403 MiB