Package: rGenomeTracks Version: 1.10.0 Command: /Library/Frameworks/R.framework/Resources/bin/R CMD INSTALL rGenomeTracks StartedAt: 2024-10-16 15:49:16 -0400 (Wed, 16 Oct 2024) EndedAt: 2024-10-16 15:49:39 -0400 (Wed, 16 Oct 2024) EllapsedTime: 23.0 seconds RetCode: 0 Status: OK