Package: rGenomeTracks Version: 1.10.0 Command: rm -rf rGenomeTracks.buildbin-libdir && mkdir rGenomeTracks.buildbin-libdir && /Users/biocbuild/BBS/utils/build-universal.sh rGenomeTracks_1.10.0.tar.gz /Library/Frameworks/R.framework/Resources/bin/R rGenomeTracks.buildbin-libdir StartedAt: 2024-10-17 16:59:10 -0400 (Thu, 17 Oct 2024) EndedAt: 2024-10-17 16:59:29 -0400 (Thu, 17 Oct 2024) EllapsedTime: 19.2 seconds RetCode: 0 Status: OK PackageFile: rGenomeTracks_1.10.0.tgz PackageFileSize: 3.408 MiB