Package: rGREAT Version: 2.6.0 Command: E:\biocbuild\bbs-3.19-bioc\R\bin\R.exe CMD INSTALL rGREAT StartedAt: 2024-10-16 16:42:00 -0400 (Wed, 16 Oct 2024) EndedAt: 2024-10-16 16:43:13 -0400 (Wed, 16 Oct 2024) EllapsedTime: 72.3 seconds RetCode: 0 Status: OK