Package: rGREAT Version: 2.6.0 Command: E:\biocbuild\bbs-3.19-bioc\R\bin\R.exe CMD check --no-multiarch --install=check:rGREAT.install-out.txt --library=E:\biocbuild\bbs-3.19-bioc\R\library --no-vignettes --timings rGREAT_2.6.0.tar.gz StartedAt: 2024-10-17 05:02:40 -0400 (Thu, 17 Oct 2024) EndedAt: 2024-10-17 05:08:28 -0400 (Thu, 17 Oct 2024) EllapsedTime: 347.4 seconds RetCode: 0 Status: OK CheckDir: rGREAT.Rcheck Warnings: 0