Package: rGADEM Version: 2.52.0 Command: rm -rf rGADEM.buildbin-libdir && mkdir rGADEM.buildbin-libdir && E:\biocbuild\bbs-3.19-bioc\R\bin\R.exe CMD INSTALL --build --library=rGADEM.buildbin-libdir rGADEM_2.52.0.tar.gz StartedAt: 2024-10-17 08:28:49 -0400 (Thu, 17 Oct 2024) EndedAt: 2024-10-17 08:30:00 -0400 (Thu, 17 Oct 2024) EllapsedTime: 71.0 seconds RetCode: 0 Status: OK PackageFile: rGADEM_2.52.0.zip PackageFileSize: 524.9 KiB