Package: rGADEM Version: 2.52.0 Command: /Library/Frameworks/R.framework/Resources/bin/R CMD INSTALL rGADEM StartedAt: 2024-10-16 15:38:49 -0400 (Wed, 16 Oct 2024) EndedAt: 2024-10-16 15:40:33 -0400 (Wed, 16 Oct 2024) EllapsedTime: 103.7 seconds RetCode: 0 Status: OK