Package: rGADEM Version: 2.52.0 Command: /Library/Frameworks/R.framework/Resources/bin/R CMD check --install=check:rGADEM.install-out.txt --library=/Library/Frameworks/R.framework/Resources/library --no-vignettes --timings rGADEM_2.52.0.tar.gz StartedAt: 2024-06-09 22:34:07 -0400 (Sun, 09 Jun 2024) EndedAt: 2024-06-09 22:38:12 -0400 (Sun, 09 Jun 2024) EllapsedTime: 245.6 seconds RetCode: 0 Status: WARNINGS CheckDir: rGADEM.Rcheck Warnings: 1