Package: rGADEM Version: 2.52.0 Command: /Library/Frameworks/R.framework/Resources/bin/R CMD build --keep-empty-dirs --no-resave-data rGADEM StartedAt: 2024-06-09 17:54:23 -0400 (Sun, 09 Jun 2024) EndedAt: 2024-06-09 17:55:35 -0400 (Sun, 09 Jun 2024) EllapsedTime: 72.0 seconds RetCode: 0 Status: OK PackageFile: rGADEM_2.52.0.tar.gz PackageFileSize: 376.1 KiB