Package: rGADEM Version: 2.52.0 Command: /Library/Frameworks/R.framework/Resources/bin/R CMD check --install=check:rGADEM.install-out.txt --library=/Library/Frameworks/R.framework/Resources/library --no-vignettes --timings rGADEM_2.52.0.tar.gz StartedAt: 2024-10-18 09:25:59 -0400 (Fri, 18 Oct 2024) EndedAt: 2024-10-18 09:30:58 -0400 (Fri, 18 Oct 2024) EllapsedTime: 299.6 seconds RetCode: 0 Status: WARNINGS CheckDir: rGADEM.Rcheck Warnings: 1